BEGIN:VCALENDAR
VERSION:2.0
PRODID:-//ZANZIBAR MAISHA BORA FOUNDATION - ECPv6.2.9//NONSGML v1.0//EN
CALSCALE:GREGORIAN
METHOD:PUBLISH
X-ORIGINAL-URL:https://zmbf.or.tz
X-WR-CALDESC:Events for ZANZIBAR MAISHA BORA FOUNDATION
REFRESH-INTERVAL;VALUE=DURATION:PT1H
X-Robots-Tag:noindex
X-PUBLISHED-TTL:PT1H
BEGIN:VTIMEZONE
TZID:UTC
BEGIN:STANDARD
TZOFFSETFROM:+0000
TZOFFSETTO:+0000
TZNAME:UTC
DTSTART:20240101T000000
END:STANDARD
END:VTIMEZONE
BEGIN:VEVENT
DTSTART;VALUE=DATE:20240106
DTEND;VALUE=DATE:20240107
DTSTAMP:20260422T224413
CREATED:20231220T042941Z
LAST-MODIFIED:20231220T043702Z
UID:3163-1704499200-1704585599@zmbf.or.tz
SUMMARY:Mariam Mwinyi Walkathon
DESCRIPTION:Step for a Cause is not just a walk; it’s a movement to make a positive impact. The event aims to raise awareness. Whether it’s supporting local charities\, healthcare initiatives\, or environmental causes\, participants are stepping forward to contribute to a meaningful and worthwhile endeavour.
URL:https://zmbf.or.tz/event/mariam-mwinyi-walkathon-3/
LOCATION:Viwanja Vya Dole\, Magharibi 'A'\, Unguja-Zanzibar
CATEGORIES:Walkathon
ATTACH;FMTTYPE=image/jpeg:https://zmbf.or.tz/wp-content/uploads/2023/11/JaliluZaid-9043.jpg
END:VEVENT
END:VCALENDAR